BEGIN:VCALENDAR
VERSION:2.0
PRODID:-//ChamberMaster//Event Calendar 2.0//EN
METHOD:PUBLISH
X-PUBLISHED-TTL:P3D
REFRESH-INTERVAL:P3D
CALSCALE:GREGORIAN
BEGIN:VEVENT
DTSTART:20260411T150000Z
DTEND:20260411T180000Z
X-MICROSOFT-CDO-ALLDAYEVENT:FALSE
SUMMARY:All Abilities Block Party
DESCRIPTION:Join Gabriel Homes\, our residents\, and our resource partners on Saturday\, April 11\, 2026\, from 11 a.m. to 2 p.m. to celebrate all abilities in our community with a resource fair and talent showcase at Lake Anne Plaza in Reston. Free food and drink for all who RSVP!\n\n\n\nLearn more about the All Abilities Block Party and RSVP at gabrielhomes.org/party.
X-ALT-DESC;FMTTYPE=text/html:<span style="font-size:16px">Join Gabriel Homes\, our residents\, and our resource partners on Saturday\, April 11\, 2026\, from 11 a.m. to 2 p.m. to celebrate all abilities in our community with a resource fair and talent showcase at Lake Anne Plaza in Reston. Free food and drink for all who RSVP!<br />\n<br />\nLearn more about the All Abilities Block Party and RSVP at <a href="https://gabrielhomes.org/party">gabrielhomes.org/party</a>.</span>
LOCATION:Lake Anne Plaza
UID:e.3120.19026
SEQUENCE:3
DTSTAMP:20260420T110933Z
URL:https://business.restonchamber.org/events/details/all-abilities-block-party-19026
END:VEVENT

END:VCALENDAR
