BEGIN:VCALENDAR
VERSION:2.0
PRODID:-//ChamberMaster//Event Calendar 2.0//EN
METHOD:PUBLISH
X-PUBLISHED-TTL:P3D
REFRESH-INTERVAL:P3D
CALSCALE:GREGORIAN
BEGIN:VEVENT
DTSTART:20250416T123000Z
DTEND:20250416T131500Z
X-MICROSOFT-CDO-ALLDAYEVENT:FALSE
SUMMARY:Ambassador Committee
DESCRIPTION:The mission of the Ambassador Committee is to actively engage the Chamber?s newest members by facilitating connections and involvement with current members. In addition\, this committee conducts outreach to current Chamber members to ensure they are maintaining and maximizing the benefits of their membership.\n\n\n\nThe mission of the Membership Committee is to assist the Chamber in actively recruiting new member companies of all sizes and industries. This committee conducts targeted outreach to prospective members by promoting the value of membership.
X-ALT-DESC;FMTTYPE=text/html:<br>\n<span style="font-size:16px\;">The mission of the <strong>Ambassador Committee</strong> is to actively engage the Chamber?s newest members by facilitating connections and involvement with current members. In addition\, this committee conducts outreach to current Chamber members to ensure they are maintaining and maximizing the benefits of their membership.<br>\n<br>\nThe mission of the <strong>Membership Committee</strong> is to assist the Chamber in actively recruiting new member companies of all sizes and industries. This committee conducts targeted outreach to prospective members by promoting the value of membership.</span>
LOCATION:
UID:e.3120.17024
SEQUENCE:3
DTSTAMP:20260421T083456Z
URL:https://business.restonchamber.org/events/details/ambassador-committee-04-16-2025-17024
END:VEVENT

END:VCALENDAR
