BEGIN:VCALENDAR
VERSION:2.0
PRODID:-//ChamberMaster//Event Calendar 2.0//EN
METHOD:PUBLISH
X-PUBLISHED-TTL:P3D
REFRESH-INTERVAL:P3D
CALSCALE:GREGORIAN
BEGIN:VEVENT
DTSTART:20260613T120000Z
DTEND:20260613T150000Z
X-MICROSOFT-CDO-ALLDAYEVENT:FALSE
SUMMARY:Cars & Coffee with Craftsman Auto Care at NWFCU
DESCRIPTION:Join Craftsman Auto Care for a morning of incredible cars\, fresh coffee\, and great company at the Northwest Federal Credit Union Herndon location. Walk the lot\, check out an amazing lineup of vehicles\, and enjoy coffee and donuts while they last.\n\n \n\nDate: Saturday\, June 13 (Rain Date: Sunday\, June 14)\n\nTime: 8:00 AM   11:00 AM\n\nLocation: Northwest Federal Credit Union   Herndon\; 200 Spring St\, Herndon\, VA\n\n\n\nWhat to Expect:\n\n  Car showcase + family-friendly fun\n\n  Judged show with prizes in each category\n\n  Raffles and giveaways\n\n  Free coffee from Weird Brothers Coffee (while supplies last)\n\n  Free donuts (while they last)\n\n  Chick-fil-A on site with food available for purchase\n\n  NWFCU information booth\n\n  Herndon Police Department onsite with vehicles to explore\n\n  Local community businesses and partners onsite\n\n  SPARC Mobile Sensory Lab (Sensory Van)   a calm\, welcoming space for sensory-friendly needs\n\n\n\nAll vehicle registration proceeds benefit the NWFCU Foundation\, supporting programs that strengthen our local community.\n\n \n\nPre-register online TODAY\n\n \n\nBring your friends\, bring the family\, and enjoy a great morning of cars and community.\n\n \n\nQuestions: hello@craftsmanautocare.com\n\n \n\nCan't wait to see you there!
X-ALT-DESC;FMTTYPE=text/html:<div>Join Craftsman Auto Care for a morning of incredible cars\, fresh coffee\, and great company at the Northwest Federal Credit Union Herndon location. Walk the lot\, check out an amazing lineup of vehicles\, and enjoy coffee and donuts while they last.<br />\n&nbsp\;</div>\n\n<div><strong>Date</strong>: Saturday\, June 13 (Rain Date: Sunday\, June 14)<br />\n<strong>Time</strong>: 8:00 AM &ndash\; 11:00 AM<br />\n<strong>Location</strong>: Northwest Federal Credit Union &ndash\; Herndon\; 200 Spring St\, Herndon\, VA<br />\n<br />\n<strong>What to Expect:</strong></div>\n\n<div>&bull\; Car showcase + family-friendly fun<br />\n&bull\; Judged show with prizes in each category<br />\n&bull\; Raffles and giveaways<br />\n&bull\; Free coffee from Weird Brothers Coffee (while supplies last)<br />\n&bull\; Free donuts (while they last)<br />\n&bull\; Chick-fil-A on site with food available for purchase<br />\n&bull\; NWFCU information booth<br />\n&bull\; Herndon Police Department onsite with vehicles to explore<br />\n&bull\; Local community businesses and partners onsite<br />\n&bull\; SPARC Mobile Sensory Lab (Sensory Van) &ndash\; a calm\, welcoming space for sensory-friendly needs</div>\n\n<div><br />\nAll vehicle registration proceeds benefit the <a href="https://www.nwfcufoundation.org/">NWFCU Foundation</a>\, supporting programs that strengthen our local community.<br />\n&nbsp\;</div>\n\n<div><a href="https://pci.jotform.com/form/260625693318058">Pre-register online TODAY</a><br />\n&nbsp\;</div>\n\n<div>Bring your friends\, bring the family\, and enjoy a great morning of cars and community.<br />\n&nbsp\;</div>\n\n<div>Questions: hello@craftsmanautocare.com<br />\n&nbsp\;</div>\n\n<div><strong>Can&rsquo\;t wait to see you there!</strong></div>\n
LOCATION:Location: Northwest Federal Credit Union Herndon\; 200 Spring St\, Herndon\, VA
UID:e.3120.19538
SEQUENCE:3
DTSTAMP:20260422T113025Z
URL:https://business.restonchamber.org/events/details/cars-coffee-with-craftsman-auto-care-at-nwfcu-19538
END:VEVENT

END:VCALENDAR
