BEGIN:VCALENDAR
VERSION:2.0
PRODID:-//ChamberMaster//Event Calendar 2.0//EN
METHOD:PUBLISH
X-PUBLISHED-TTL:P3D
REFRESH-INTERVAL:P3D
CALSCALE:GREGORIAN
BEGIN:VEVENT
DTSTART:20240815T230000Z
DTEND:20240816T010000Z
X-MICROSOFT-CDO-ALLDAYEVENT:FALSE
SUMMARY:Caymus Wine Dinner
DESCRIPTION:Join Fogo de Chao Reston for a four-course chef curated dining experience\, featuring Caymus Vineyards of Napa Valley! ?? \n\n\n\nDiscover the bright Mer Soleil Reserve Chardonnay along with elevated reds including Sea Sun Pinot Noir\, Caymus-Suisun Walking Fool Red Blend\, and Caymus Cabernet Sauvignon- special "50th Anniversary" vintage- paired with Bacon-wrapped Shrimp Salad\, decadent Bone-in Ribeye\, Wagyu New York Strip\, and more.
X-ALT-DESC;FMTTYPE=text/html:<span style="color:rgba(0\, 0\, 0\, 0.9)\; font-family:-apple-system\,system-ui\,blinkmacsystemfont\,segoe ui\,roboto\,helvetica neue\,fira sans\,ubuntu\,oxygen\,oxygen sans\,cantarell\,droid sans\,apple color emoji\,segoe ui emoji\,segoe ui emoji\,segoe ui symbol\,lucida grande\,helvetica\,arial\,sans-serif\; font-size:14px">Join Fogo de Chao Reston for a four-course chef curated dining experience\, featuring Caymus Vineyards of Napa Valley! ??</span><span style="color:rgba(0\, 0\, 0\, 0.9)\; font-family:-apple-system\,system-ui\,blinkmacsystemfont\,segoe ui\,roboto\,helvetica neue\,fira sans\,ubuntu\,oxygen\,oxygen sans\,cantarell\,droid sans\,apple color emoji\,segoe ui emoji\,segoe ui emoji\,segoe ui symbol\,lucida grande\,helvetica\,arial\,sans-serif\; font-size:14px"> </span><br />\n<br />\n<span style="color:rgba(0\, 0\, 0\, 0.9)\; font-family:-apple-system\,system-ui\,blinkmacsystemfont\,segoe ui\,roboto\,helvetica neue\,fira sans\,ubuntu\,oxygen\,oxygen sans\,cantarell\,droid sans\,apple color emoji\,segoe ui emoji\,segoe ui emoji\,segoe ui symbol\,lucida grande\,helvetica\,arial\,sans-serif\; font-size:14px">Discover the bright Mer Soleil Reserve Chardonnay along with elevated reds including Sea Sun Pinot Noir\, Caymus-Suisun Walking Fool Red Blend\, and Caymus Cabernet Sauvignon- special &ldquo\;50th Anniversary&rdquo\; vintage- paired with Bacon-wrapped Shrimp Salad\, decadent Bone-in Ribeye\, Wagyu New York Strip\, and more.</span>
LOCATION:Fogo de Chao Reston 11915 Democracy Dr. Reston\, VA 20190
UID:e.3120.17126
SEQUENCE:3
DTSTAMP:20260419T185132Z
URL:https://business.restonchamber.org/events/details/caymus-wine-dinner-17126
END:VEVENT

END:VCALENDAR
