BEGIN:VCALENDAR
VERSION:2.0
PRODID:-//ChamberMaster//Event Calendar 2.0//EN
METHOD:PUBLISH
X-PUBLISHED-TTL:P3D
REFRESH-INTERVAL:P3D
CALSCALE:GREGORIAN
BEGIN:VEVENT
DTSTART:20260507T200000Z
DTEND:20260507T230000Z
X-MICROSOFT-CDO-ALLDAYEVENT:FALSE
SUMMARY:Cinco de Mayo: Fiesta for a Cause
DESCRIPTION:Join us at Women Giving Back for a fun celebration to thank all of our annual sponsors\, volunteers\, and contributors while raising funds to support our mission. There's no better way to celebrate than being outdoors under our signature purple Fiesta tent enjoying tasty Latin inspired food\, drinks\, and music! Our festive photo booth and exciting silent auction will be back to add to the fun as well!\n\n\n\nAll proceeds from the event go towards our supportive programming for local women and children in crisis. Our goal is to empower women\, boost their confidence\, and help them achieve their full potential.\n\n\n\nLearn more at www.WomenGivingBack.org/Cinco.
X-ALT-DESC;FMTTYPE=text/html:<span style="font-family:tahoma\; font-size:16px">Join us at Women Giving Back for a fun&nbsp\;<span style="color:rgb(8\, 8\, 9)">celebration to thank all of our annual sponsors\, volunteers\, and contributors while raising funds to support our mission. There&rsquo\;s no better way to celebrate than being outdoors under our signature purple Fiesta tent enjoying tasty Latin inspired food\, drinks\, and music! Our festive photo booth and exciting silent auction will be back to add to the fun as well!</span></span><br />\n<br />\n<span style="font-family:tahoma\; font-size:16px"><span style="color:rgb(8\, 8\, 9)">All proceeds from the event go towards our supportive programming for local women and children in crisis. Our goal is to empower women\, boost their confidence\, and help them achieve their full potential.</span></span><br />\n<br />\n<span style="font-family:tahoma\; font-size:16px"><span style="color:rgb(8\, 8\, 9)">Learn more at&nbsp\;<a href="http://www.WomenGivingBack.org/Cinco">www.WomenGivingBack.org/Cinco</a>.</span></span>
LOCATION:Women Giving Back 20 Export Drive Sterling\, VA 20164
UID:e.3120.19453
SEQUENCE:3
DTSTAMP:20260421T083508Z
URL:https://business.restonchamber.org/events/details/cinco-de-mayo-fiesta-for-a-cause-05-07-2026-19453
END:VEVENT

END:VCALENDAR
