BEGIN:VCALENDAR
VERSION:2.0
PRODID:-//ChamberMaster//Event Calendar 2.0//EN
METHOD:PUBLISH
X-PUBLISHED-TTL:P3D
REFRESH-INTERVAL:P3D
CALSCALE:GREGORIAN
BEGIN:VEVENT
DTSTART:20260428T200000Z
DTEND:20260428T230000Z
X-MICROSOFT-CDO-ALLDAYEVENT:FALSE
SUMMARY:Davio's Open House and Tasting!
DESCRIPTION:Davio's Northern Italian Steakhouse's invite the Reston Chamber of Commerce to an exclusive Open House and Tasting event on Tuesday\, April 28 from 4:00 PM - 7:00 PM.\n\n \n\nPlease join us for an exclusive look at our stunning event spaces\, perfect for private dining\, weddings\, corporate events\, and much more. It's a wonderful opportunity to experience everything Davio's has to offer firsthand. \n\n \n\nDuring the open house\, you'll have the chance to:\n\n\n	Sample signature bites and seasonal specialties\n	Meet and Connect with the Davio's Team\n	\n	Tour the variety of dining spaces we have available\n	\n\n\nKindly RSVP to korinna@davios.com\, to be added to our list of attendees!
X-ALT-DESC;FMTTYPE=text/html:<div>Davio&rsquo\;s Northern Italian Steakhouse&#39\;s invite the Reston Chamber of Commerce to an exclusive Open House and Tasting event on Tuesday\, April 28 from 4:00 PM - 7:00 PM.</div>\n\n<div>&nbsp\;</div>\n\n<div>Please join us for an exclusive look at our stunning event spaces\, perfect for private dining\, weddings\, corporate events\, and much more. It&rsquo\;s a wonderful opportunity to experience everything Davio&rsquo\;s has to offer firsthand.&nbsp\;</div>\n\n<div>&nbsp\;</div>\n\n<div>During the open house\, you&rsquo\;ll have the chance to:</div>\n\n<ul style="margin-right:0px">\n	<li>Sample signature bites and seasonal specialties</li>\n	<li>Meet and Connect with the Davio&#39\;s Team</li>\n	<li>\n	<div>Tour the variety of dining spaces we have available</div>\n	</li>\n</ul>\n\n<div><span style="color:black">Kindly RSVP to&nbsp\;</span><span style="color:rgb(70\, 120\, 134)"><a href="mailto:korinna@davios.com" id="OWAbee513a8-d2e3-3c59-a635-d861950c99ef" style="border: 0px\; font: inherit\; margin: 0px\; padding: 0px\; vertical-align: baseline\; color: rgb(70\, 120\, 134)\;" title="mailto:korinna@davios.com"><u>korinna@davios.com</u></a></span><span style="color:black">\, to be added to our list of attendees!</span></div>\n
LOCATION:Davio's Northern Italian Steakhouse 1902 Reston Metro Plaza Reston VA 20190 888.995.4810
UID:e.3120.19537
SEQUENCE:3
DTSTAMP:20260421T014917Z
URL:https://business.restonchamber.org/events/details/davio-s-open-house-and-tasting-19537
END:VEVENT

END:VCALENDAR
