BEGIN:VCALENDAR
VERSION:2.0
PRODID:-//ChamberMaster//Event Calendar 2.0//EN
METHOD:PUBLISH
X-PUBLISHED-TTL:P3D
REFRESH-INTERVAL:P3D
CALSCALE:GREGORIAN
BEGIN:VEVENT
DTSTART:20241218T141500Z
DTEND:20241218T150000Z
X-MICROSOFT-CDO-ALLDAYEVENT:FALSE
SUMMARY:Membership Committee
DESCRIPTION:The mission of the Membership Committee is to assist the Chamber in actively recruiting new member companies of all sizes and industries. This committee conducts targeted outreach to prospective members by promoting the value of membership.
X-ALT-DESC;FMTTYPE=text/html:<span style="font-size: 16px\;">The mission of the&nbsp\;</span><strong style="font-size: 16px\;">Membership Committee</strong><span style="font-size: 16px\;">&nbsp\;is to assist the Chamber in actively recruiting new member companies of all sizes and industries. This committee conducts targeted outreach to prospective members by promoting the value of membership.</span>
LOCATION:
UID:e.3120.17032
SEQUENCE:3
DTSTAMP:20260420T080953Z
URL:https://business.restonchamber.org/events/details/membership-committee-12-18-2024-17032
END:VEVENT

END:VCALENDAR
