BEGIN:VCALENDAR
VERSION:2.0
PRODID:-//ChamberMaster//Event Calendar 2.0//EN
METHOD:PUBLISH
X-PUBLISHED-TTL:P3D
REFRESH-INTERVAL:P3D
CALSCALE:GREGORIAN
BEGIN:VEVENT
DTSTART:20250927T160000Z
DTEND:20250927T180000Z
X-MICROSOFT-CDO-ALLDAYEVENT:FALSE
SUMMARY:Paws on the Plaza Pet Adoption
DESCRIPTION:Come out to meet adoptable pets from Homeward Trails from 12:00PM - 2:00PM. Stick around to enjoy lakeside music and learn more about initiatives from Homeward Trails.
X-ALT-DESC;FMTTYPE=text/html:Come out to meet adoptable pets from Homeward Trails from 12:00PM - 2:00PM. Stick around to enjoy lakeside music and learn more about initiatives from Homeward Trails.
LOCATION:South Lakes Village Shopping Center 11120 South Lakes Dr\, Reston\, VA 20191
UID:e.3120.18573
SEQUENCE:3
DTSTAMP:20260421T083509Z
URL:https://business.restonchamber.org/events/details/paws-on-the-plaza-pet-adoption-18573
END:VEVENT

END:VCALENDAR
