BEGIN:VCALENDAR
VERSION:2.0
PRODID:-//ChamberMaster//Event Calendar 2.0//EN
METHOD:PUBLISH
X-PUBLISHED-TTL:P3D
REFRESH-INTERVAL:P3D
CALSCALE:GREGORIAN
BEGIN:VEVENT
DTSTART:20240425T000000Z
DTEND:20240425T020000Z
X-MICROSOFT-CDO-ALLDAYEVENT:FALSE
SUMMARY:Professional Touring Artist - Okaidja Afroso
DESCRIPTION:Okaidja Afroso ushers in a fresh breeze of musical flavors from the shores of Ghana's Gulf of Guinea\, drawing from the ecological knowledge of the indigenous Ga-Dangme fishermen\, the power of nature-based rituals\, and the connections that his ancestors had to the elements\, particularly to the ocean. With his new project "Jaku Mumor"\, Okaidja's distinctive musical style extends ancestral traditions and creates a contemporary African oral tradition by combining percussion\, guitar\, dance and native language vocals.
X-ALT-DESC;FMTTYPE=text/html:<span style="color:rgb(20\, 24\, 39)\; font-family:helvetica neue\,helvetica\,-apple-system\,blinkmacsystemfont\,roboto\,arial\,sans-serif\; font-size:18px">Okaidja Afroso ushers in a fresh breeze of musical flavors from the shores of Ghana&rsquo\;s Gulf of Guinea\, drawing from the ecological knowledge of the indigenous Ga-Dangme fishermen\, the power of nature-based rituals\, and the connections that his ancestors had to the elements\, particularly to the ocean. With his new project &ldquo\;</span><span style="color:rgb(20\, 24\, 39)\; font-family:helvetica neue\,helvetica\,-apple-system\,blinkmacsystemfont\,roboto\,arial\,sans-serif\; font-size:18px">Jaku Mumor&rdquo\;\,&nbsp\;</span><span style="color:rgb(20\, 24\, 39)\; font-family:helvetica neue\,helvetica\,-apple-system\,blinkmacsystemfont\,roboto\,arial\,sans-serif\; font-size:18px">Okaidja&rsquo\;s distinctive musical style extends ancestral traditions and creates a contemporary African oral tradition by combining percussion\, guitar\, dance and native language vocals.</span><span style="color:rgb(20\, 24\, 39)\; font-family:helvetica neue\,helvetica\,-apple-system\,blinkmacsystemfont\,roboto\,arial\,sans-serif\; font-size:18px">&nbsp\;</span>
LOCATION:Reston Community Center - Centerstage 2310 Colts Neck Road Reston\, VA 20191
UID:e.3120.15590
SEQUENCE:3
DTSTAMP:20260421T200601Z
URL:https://business.restonchamber.org/events/details/professional-touring-artist-okaidja-afroso-15590
END:VEVENT

END:VCALENDAR
